BEGIN:VCALENDAR
VERSION:2.0
CALSCALE:GREGORIAN
PRODID:-//Diputació de Barcelona//DibaCMS//EN
BEGIN:VEVENT
UID:3769
DTSTAMP:20260423T004125
DTSTART:20230222T090000
DTEND:20230222T100000
SUMMARY:Reunió cultura
LOCATION:08319 Dosrius
METHOD:PUBLISH
X-WR-CALNAME:dosrius@dosrius.cat
X-WR-TIMEZONE:Europe/Madrid
DESCRIPTION:
URI:https://www.dosrius.cat//continguts//3769-reunio-cultura.html
CLASS:PUBLIC
END:VEVENT
END:VCALENDAR
