BEGIN:VCALENDAR
VERSION:2.0
CALSCALE:GREGORIAN
PRODID:-//Diputació de Barcelona//DibaCMS//EN
BEGIN:VEVENT
UID:3768
DTSTAMP:20260423T040311
DTSTART:20230221T110000
DTEND:20230221T120000
SUMMARY:Comissió tècnica de Seguiment
LOCATION:08319 Dosrius
METHOD:PUBLISH
X-WR-CALNAME:dosrius@dosrius.cat
X-WR-TIMEZONE:Europe/Madrid
DESCRIPTION:
URI:https://www.dosrius.cat//continguts//3768-comissio-tecnica-de-seguiment.html
CLASS:PUBLIC
END:VEVENT
END:VCALENDAR
