BEGIN:VCALENDAR
VERSION:2.0
CALSCALE:GREGORIAN
PRODID:-//Diputació de Barcelona//DibaCMS//EN
BEGIN:VEVENT
UID:3765
DTSTAMP:20260423T062214
DTSTART:20230217T183000
DTEND:20230217T193000
SUMMARY:Consell Federació
LOCATION:08319 Dosrius
METHOD:PUBLISH
X-WR-CALNAME:dosrius@dosrius.cat
X-WR-TIMEZONE:Europe/Madrid
DESCRIPTION:
URI:https://www.dosrius.cat//continguts//3765-consell-federacio.html
CLASS:PUBLIC
END:VEVENT
END:VCALENDAR
