BEGIN:VCALENDAR
VERSION:2.0
CALSCALE:GREGORIAN
PRODID:-//Diputació de Barcelona//DibaCMS//EN
BEGIN:VEVENT
UID:3764
DTSTAMP:20260423T050451
DTSTART:20230217T100000
DTEND:20230217T120000
SUMMARY:Guarnir poliesportiu carnaval
LOCATION:08319 Dosrius
METHOD:PUBLISH
X-WR-CALNAME:dosrius@dosrius.cat
X-WR-TIMEZONE:Europe/Madrid
DESCRIPTION:
URI:https://www.dosrius.cat//continguts//guarnir-poliesportiu-carnaval.html
CLASS:PUBLIC
END:VEVENT
END:VCALENDAR
