BEGIN:VCALENDAR
VERSION:2.0
CALSCALE:GREGORIAN
PRODID:-//Diputació de Barcelona//DibaCMS//EN
BEGIN:VEVENT
UID:3757
DTSTAMP:20260423T064757
DTSTART:20230215T090000
DTEND:20230215T100000
SUMMARY:Reunió Cultura
LOCATION:08319 Dosrius
METHOD:PUBLISH
X-WR-CALNAME:dosrius@dosrius.cat
X-WR-TIMEZONE:Europe/Madrid
DESCRIPTION:
URI:https://www.dosrius.cat//continguts//reunio-cultura.html
CLASS:PUBLIC
END:VEVENT
END:VCALENDAR
