BEGIN:VCALENDAR
VERSION:2.0
CALSCALE:GREGORIAN
PRODID:-//Diputació de Barcelona//DibaCMS//EN
BEGIN:VEVENT
UID:3755
DTSTAMP:20260422T232853
DTSTART:20230213T190000
DTEND:20230213T200000
SUMMARY:Executiva Federació
LOCATION:08319 Dosrius
METHOD:PUBLISH
X-WR-CALNAME:dosrius@dosrius.cat
X-WR-TIMEZONE:Europe/Madrid
DESCRIPTION:
URI:https://www.dosrius.cat//continguts//executiva-federacio.html
CLASS:PUBLIC
END:VEVENT
END:VCALENDAR
