BEGIN:VCALENDAR
VERSION:2.0
CALSCALE:GREGORIAN
PRODID:-//Diputació de Barcelona//DibaCMS//EN
BEGIN:VEVENT
UID:3752
DTSTAMP:20260422T220537
DTSTART:20230211T120000
DTEND:20230211T130000
SUMMARY:Presentació Pineda de Mar
LOCATION:08319 Dosrius
METHOD:PUBLISH
X-WR-CALNAME:dosrius@dosrius.cat
X-WR-TIMEZONE:Europe/Madrid
DESCRIPTION:
URI:https://www.dosrius.cat//continguts//presentacio-pineda-de-mar.html
CLASS:PUBLIC
END:VEVENT
END:VCALENDAR
