BEGIN:VCALENDAR
VERSION:2.0
CALSCALE:GREGORIAN
PRODID:-//Diputació de Barcelona//DibaCMS//EN
BEGIN:VEVENT
UID:3751
DTSTAMP:20260422T233024
DTSTART:20230211T103000
DTEND:20230211T113000
SUMMARY:Presentació Cabrils
LOCATION:08319 Dosrius
METHOD:PUBLISH
X-WR-CALNAME:dosrius@dosrius.cat
X-WR-TIMEZONE:Europe/Madrid
DESCRIPTION:
URI:https://www.dosrius.cat//continguts//presentacio-cabrils.html
CLASS:PUBLIC
END:VEVENT
END:VCALENDAR
