BEGIN:VCALENDAR
VERSION:2.0
CALSCALE:GREGORIAN
PRODID:-//Diputació de Barcelona//DibaCMS//EN
BEGIN:VEVENT
UID:3747
DTSTAMP:20260423T043357
DTSTART:20230215T080000
DTEND:20480221T000000
SUMMARY:Nou sistema d'alertes de Protecció Civil a la població, a través de dispositius mòbils
LOCATION:
METHOD:PUBLISH
X-WR-CALNAME:dosrius@dosrius.cat
X-WR-TIMEZONE:Europe/Madrid
DESCRIPTION:En els propers mesos es realitzaran proves d'aquest sistema que complementarà la informació que s'ofereix a la ciutadania d'avisos, alertes o mesures d'autoprotecció en una situació d'emergència.

URI:https://www.dosrius.cat/actualitat/noticies/nou-sistema-dalertes-de-proteccio-civil-a-la-poblacio-a-traves-de-dispositius-mobils.html
CLASS:PUBLIC
END:VEVENT
END:VCALENDAR
