BEGIN:VCALENDAR
VERSION:2.0
CALSCALE:GREGORIAN
PRODID:-//Diputació de Barcelona//DibaCMS//EN
BEGIN:VEVENT
UID:3746
DTSTAMP:20260423T041708
DTSTART:20230214T080000
DTEND:20480221T235000
SUMMARY:L’ORGT fa pública la guia del contribuent i el calendari fiscal de 2023
LOCATION:
METHOD:PUBLISH
X-WR-CALNAME:dosrius@dosrius.cat
X-WR-TIMEZONE:Europe/Madrid
DESCRIPTION:
URI:https://www.dosrius.cat/actualitat/noticies/lorgt-fa-publica-la-guia-del-contribuent-i-el-calendari-fiscal-de-2023.html
CLASS:PUBLIC
END:VEVENT
END:VCALENDAR
