BEGIN:VCALENDAR
VERSION:2.0
CALSCALE:GREGORIAN
PRODID:-//Diputació de Barcelona//DibaCMS//EN
BEGIN:VEVENT
UID:3744
DTSTAMP:20260423T033939
DTSTART:20230209T110000
DTEND:20740216T000000
SUMMARY:Noves tasques d’asfaltat de carrers
LOCATION:
METHOD:PUBLISH
X-WR-CALNAME:dosrius@dosrius.cat
X-WR-TIMEZONE:Europe/Madrid
DESCRIPTION:L’Ajuntament destinarà una partida de 150.000€ a la realització d’aquests treballs.

URI:https://www.dosrius.cat/actualitat/noticies/noves-tasques-dasfaltat-de-carrers.html
CLASS:PUBLIC
END:VEVENT
END:VCALENDAR
