BEGIN:VCALENDAR
VERSION:2.0
CALSCALE:GREGORIAN
PRODID:-//Diputació de Barcelona//DibaCMS//EN
BEGIN:VEVENT
UID:3690
DTSTAMP:20260422T232644
DTSTART:20230206T000000
DTEND:20480220T000000
SUMMARY:Tot a punt per a l’inici de les obres de construcció del nou edifici de l’Institut Els Roures
LOCATION:
METHOD:PUBLISH
X-WR-CALNAME:dosrius@dosrius.cat
X-WR-TIMEZONE:Europe/Madrid
DESCRIPTION:El nou equipament comptarà amb dues línies d’ESO i s’ubicarà als terrenys de Can Batlle.

URI:https://www.dosrius.cat/actualitat/noticies/tot-a-punt-per-a-linici-de-les-obres-de-construccio-del-nou-edifici-de-linstitut-els-roures.html
CLASS:PUBLIC
END:VEVENT
END:VCALENDAR
