BEGIN:VCALENDAR
VERSION:2.0
CALSCALE:GREGORIAN
PRODID:-//Diputació de Barcelona//DibaCMS//EN
BEGIN:VEVENT
UID:3687
DTSTAMP:20260422T225804
DTSTART:20230202T110000
DTEND:20480228T000000
SUMMARY:Dosrius canta i balla al ritme del Carnaval
LOCATION:
METHOD:PUBLISH
X-WR-CALNAME:dosrius@dosrius.cat
X-WR-TIMEZONE:Europe/Madrid
DESCRIPTION:L’Ajuntament organitza diumenge 19 de febrer diverses activitats lúdiques per celebrar una de les festivitats més originals i divertides de l’any.

URI:https://www.dosrius.cat/actualitat/noticies/dosrius-canta-i-balla-al-ritme-del-carnaval.html
CLASS:PUBLIC
END:VEVENT
END:VCALENDAR
