BEGIN:VCALENDAR
VERSION:2.0
CALSCALE:GREGORIAN
PRODID:-//Diputació de Barcelona//DibaCMS//EN
BEGIN:VEVENT
UID:3684
DTSTAMP:20260422T231356
DTSTART:20230201T000000
DTEND:20480215T000000
SUMMARY:Les Jornades d’Estudis Locals “Duos Rios” celebren aquest febrer la seva tercera edició
LOCATION:
METHOD:PUBLISH
X-WR-CALNAME:dosrius@dosrius.cat
X-WR-TIMEZONE:Europe/Madrid
DESCRIPTION:Dissabte 11 de febrer, la Sala de Plens de l’Ajuntament acollirà la presentació de les 11 comunicacions que han pres part del projecte en un acte obert a tota la ciutadania.

URI:https://www.dosrius.cat/actualitat/noticies/les-jornades-destudis-locals-duos-rios-celebren-aquest-febrer-la-seva-tercera-edicio.html
CLASS:PUBLIC
END:VEVENT
END:VCALENDAR
