BEGIN:VCALENDAR
VERSION:2.0
CALSCALE:GREGORIAN
PRODID:-//Diputació de Barcelona//DibaCMS//EN
BEGIN:VEVENT
UID:3683
DTSTAMP:20260422T231636
DTSTART:20230131T110000
DTEND:20480124T000000
SUMMARY:El Moto Club Canyamars, premiat com a millor club organitzador del Trofeu Català de Resistència de Terra
LOCATION:
METHOD:PUBLISH
X-WR-CALNAME:dosrius@dosrius.cat
X-WR-TIMEZONE:Europe/Madrid
DESCRIPTION:L’Ajuntament felicita a l’entitat per aquest reconeixement tan merescut.

URI:https://www.dosrius.cat/actualitat/noticies/el-moto-club-canyamars-premiat-com-a-millor-club-organitzador-del-trofeu-catala-de-resistencia-de-terra.html
CLASS:PUBLIC
END:VEVENT
END:VCALENDAR
