BEGIN:VCALENDAR
VERSION:2.0
CALSCALE:GREGORIAN
PRODID:-//Diputació de Barcelona//DibaCMS//EN
BEGIN:VEVENT
UID:3681
DTSTAMP:20260423T020835
DTSTART:20230130T180000
DTEND:20240120T000000
SUMMARY:Oriol Mena rep l'homenatge de Dosrius
LOCATION:
METHOD:PUBLISH
X-WR-CALNAME:dosrius@dosrius.cat
X-WR-TIMEZONE:Europe/Madrid
DESCRIPTION:L’Ajuntament i el Motoclub Canyamars van organitzar el 29 de gener una recepció oficial al pilot canyamarsenc i una rua oberta a tota la població. No et perdis el vídeo-resum de la jornada!

URI:https://www.dosrius.cat/actualitat/noticies/oriol-mena-rep-lhomenatge-de-dosrius.html
CLASS:PUBLIC
END:VEVENT
END:VCALENDAR
