BEGIN:VCALENDAR
VERSION:2.0
CALSCALE:GREGORIAN
PRODID:-//Diputació de Barcelona//DibaCMS//EN
BEGIN:VEVENT
UID:3680
DTSTAMP:20260422T225732
DTSTART:20230130T000000
DTEND:20480117T235500
SUMMARY:Avís informatiu: Cementiri Municipal
LOCATION:
METHOD:PUBLISH
X-WR-CALNAME:dosrius@dosrius.cat
X-WR-TIMEZONE:Europe/Madrid
DESCRIPTION:L’Ajuntament agraeix la comprensió i la col·laboració de tots els veïns i veïnes.

URI:https://www.dosrius.cat/actualitat/noticies/avis-informatiu-cementiri-municipal.html
CLASS:PUBLIC
END:VEVENT
END:VCALENDAR
