BEGIN:VCALENDAR
VERSION:2.0
CALSCALE:GREGORIAN
PRODID:-//Diputació de Barcelona//DibaCMS//EN
BEGIN:VEVENT
UID:3675
DTSTAMP:20260422T230448
DTSTART:20230126T110000
DTEND:20480110T000000
SUMMARY:Apunta’t a les noves activitats dels Localets
LOCATION:
METHOD:PUBLISH
X-WR-CALNAME:dosrius@dosrius.cat
X-WR-TIMEZONE:Europe/Madrid
DESCRIPTION:Per a participar-hi cal inscriure’s prèviament abans del 10 de febrer.

URI:https://www.dosrius.cat/actualitat/noticies/apuntat-a-les-noves-activitats-dels-localets.html
CLASS:PUBLIC
END:VEVENT
END:VCALENDAR
