BEGIN:VCALENDAR
VERSION:2.0
CALSCALE:GREGORIAN
PRODID:-//Diputació de Barcelona//DibaCMS//EN
BEGIN:VEVENT
UID:3665
DTSTAMP:20260423T050839
DTSTART:20230118T080000
DTEND:20480123T000000
SUMMARY:Finalitza la millora de camins prevista al Pla de prevenció d’incendis
LOCATION:
METHOD:PUBLISH
X-WR-CALNAME:dosrius@dosrius.cat
X-WR-TIMEZONE:Europe/Madrid
DESCRIPTION:El projecte tenia com a objectiu desbrossar, arranjar i ampliar diferents vials de la xarxa de camins municipal per tal de garantir-ne un estat òptim de conservació. 

URI:https://www.dosrius.cat/actualitat/noticies/finalitza-la-millora-de-camins-prevista-al-pla-de-prevencio-dincendis.html
CLASS:PUBLIC
END:VEVENT
END:VCALENDAR
