BEGIN:VCALENDAR
VERSION:2.0
CALSCALE:GREGORIAN
PRODID:-//Diputació de Barcelona//DibaCMS//EN
BEGIN:VEVENT
UID:3661
DTSTAMP:20260423T004410
DTSTART:20230112T000000
DTEND:20480125T000000
SUMMARY:Celebrem el Dijous Gras al Pou de Glaç!
LOCATION:
METHOD:PUBLISH
X-WR-CALNAME:dosrius@dosrius.cat
X-WR-TIMEZONE:Europe/Madrid
DESCRIPTION:Dijous 16 de febrer s’organitzarà un esmorzar i un taller de ioga del riure. 

URI:https://www.dosrius.cat/actualitat/noticies/celebrem-el-dijous-gras-al-pou-de-glac.html
CLASS:PUBLIC
END:VEVENT
END:VCALENDAR
