BEGIN:VCALENDAR
VERSION:2.0
CALSCALE:GREGORIAN
PRODID:-//Diputació de Barcelona//DibaCMS//EN
BEGIN:VEVENT
UID:3658
DTSTAMP:20260423T021212
DTSTART:20230104T000000
DTEND:20231228T000000
SUMMARY:El 5 de gener us esperem a la Cavalcada de Reis!
LOCATION:
METHOD:PUBLISH
X-WR-CALNAME:dosrius@dosrius.cat
X-WR-TIMEZONE:Europe/Madrid
DESCRIPTION:L’Ajuntament fa una crida a tots els veïns i veïnes a donar la benvinguda a Melcior, Gaspar i Baltasar pels carrers de Dosrius, Canyamars i Can Massuet del Far.

URI:https://www.dosrius.cat/actualitat/noticies/el-5-de-gener-us-esperem-a-la-cavalcada-de-reis.html
CLASS:PUBLIC
END:VEVENT
END:VCALENDAR
