BEGIN:VCALENDAR
VERSION:2.0
CALSCALE:GREGORIAN
PRODID:-//Diputació de Barcelona//DibaCMS//EN
BEGIN:VEVENT
UID:3656
DTSTAMP:20260422T232634
DTSTART:20221230T080000
DTEND:20481225T000000
SUMMARY:Aprovat al pressupost municipal de l’Ajuntament pel 2023
LOCATION:
METHOD:PUBLISH
X-WR-CALNAME:dosrius@dosrius.cat
X-WR-TIMEZONE:Europe/Madrid
DESCRIPTION:Els comptes augmenten notablement respecte el 2022 i inclouen més de 2 milions d’euros en inversions per a la construcció de les noves dependències de la Policia Local, la nova fase del projecte d’urbanització de Canyamars o el condicionament de l’arxiu de La Tortuga.

URI:https://www.dosrius.cat/actualitat/noticies/aprovat-al-pressupost-municipal-de-lajuntament-pel-2023.html
CLASS:PUBLIC
END:VEVENT
END:VCALENDAR
