BEGIN:VCALENDAR
VERSION:2.0
CALSCALE:GREGORIAN
PRODID:-//Diputació de Barcelona//DibaCMS//EN
BEGIN:VEVENT
UID:3655
DTSTAMP:20260422T232740
DTSTART:20221227T130000
DTEND:20481225T000000
SUMMARY:Nous treballs de renovació de l’enllumenat exterior
LOCATION:
METHOD:PUBLISH
X-WR-CALNAME:dosrius@dosrius.cat
X-WR-TIMEZONE:Europe/Madrid
DESCRIPTION:Els treballs han de permetre millorar l’eficiència i l’estalvi del consum energètic.

URI:https://www.dosrius.cat/actualitat/noticies/nous-treballs-de-renovacio-de-lenllumenat-exterior.html
CLASS:PUBLIC
END:VEVENT
END:VCALENDAR
