BEGIN:VCALENDAR
VERSION:2.0
CALSCALE:GREGORIAN
PRODID:-//Diputació de Barcelona//DibaCMS//EN
BEGIN:VEVENT
UID:3595
DTSTAMP:20260423T033903
DTSTART:20221216T080000
DTEND:20481226T000000
SUMMARY:Gaudeix del menú de Nadal a Dosrius, Canyamars i Can Massuet del Far
LOCATION:
METHOD:PUBLISH
X-WR-CALNAME:dosrius@dosrius.cat
X-WR-TIMEZONE:Europe/Madrid
DESCRIPTION:L’Ajuntament i el teixit associatiu local organitzen els mesos de desembre i gener diferents activitats lúdiques, culturals i festives per poder celebrar les festes nadalenques. 

URI:https://www.dosrius.cat/actualitat/noticies/gaudeix-del-menu-de-nadal-a-dosrius-canyamars-i-can-massuet-del-far.html
CLASS:PUBLIC
END:VEVENT
END:VCALENDAR
