BEGIN:VCALENDAR
VERSION:2.0
CALSCALE:GREGORIAN
PRODID:-//Diputació de Barcelona//DibaCMS//EN
BEGIN:VEVENT
UID:3592
DTSTAMP:20260423T040514
DTSTART:20221213T000000
DTEND:20490101T000000
SUMMARY:L’arranjament de les franges perimetrals contra incendis ja es troba en la seva recta final
LOCATION:
METHOD:PUBLISH
X-WR-CALNAME:dosrius@dosrius.cat
X-WR-TIMEZONE:Europe/Madrid
DESCRIPTION:L’Ajuntament vol agrair a tots els veïns i veïnes la seva col·laboració directa per a garantir en tot moment una execució òptima d’aquests treballs.

URI:https://www.dosrius.cat/actualitat/noticies/larranjament-de-les-franges-perimetrals-contra-incendis-ja-es-troba-en-la-seva-recta-final.html
CLASS:PUBLIC
END:VEVENT
END:VCALENDAR
