BEGIN:VCALENDAR
VERSION:2.0
CALSCALE:GREGORIAN
PRODID:-//Diputació de Barcelona//DibaCMS//EN
BEGIN:VEVENT
UID:3591
DTSTAMP:20260423T010016
DTSTART:20221212T110000
DTEND:20490129T000000
SUMMARY:El 17 i 18 de desembre us esperem al Pessebre vivent de Dosrius!
LOCATION:
METHOD:PUBLISH
X-WR-CALNAME:dosrius@dosrius.cat
X-WR-TIMEZONE:Europe/Madrid
DESCRIPTION:Per a assistir-hi cal reservar entrada prèviament en aquest enllaç.

URI:https://www.dosrius.cat/actualitat/noticies/3591-el-17-i-18-de-desembre-us-esperem-al-pessebre-vivent-de-dosrius.html
CLASS:PUBLIC
END:VEVENT
END:VCALENDAR
