BEGIN:VCALENDAR
VERSION:2.0
CALSCALE:GREGORIAN
PRODID:-//Diputació de Barcelona//DibaCMS//EN
BEGIN:VEVENT
UID:3586
DTSTAMP:20260423T010143
DTSTART:20221214T080000
DTEND:20490115T000000
SUMMARY:L’església de Sant Esteve de Canyamars torna a acollir aquest Nadal el Cant de la Sibil·la
LOCATION:
METHOD:PUBLISH
X-WR-CALNAME:dosrius@dosrius.cat
X-WR-TIMEZONE:Europe/Madrid
DESCRIPTION:Serà el dissabte 24 de desembre a partir de les 19.30 h i a càrrec de la formació “4notesclub”.

URI:https://www.dosrius.cat/actualitat/noticies/lesglesia-de-sant-esteve-de-canyamars-torna-a-acollir-aquest-nadal-el-cant-de-la-sibilla.html
CLASS:PUBLIC
END:VEVENT
END:VCALENDAR
