BEGIN:VCALENDAR
VERSION:2.0
CALSCALE:GREGORIAN
PRODID:-//Diputació de Barcelona//DibaCMS//EN
BEGIN:VEVENT
UID:3583
DTSTAMP:20260423T040218
DTSTART:20221208T080000
DTEND:20481225T000000
SUMMARY:Sessió informativa “L’administració a prop teu”
LOCATION:
METHOD:PUBLISH
X-WR-CALNAME:dosrius@dosrius.cat
X-WR-TIMEZONE:Europe/Madrid
DESCRIPTION:La trobada és oberta a tota la població i tindrà lloc el dimecres 21 de desembre, a les 11 h, a la Sala de Plens de l’Ajuntament.

URI:https://www.dosrius.cat/actualitat/noticies/3583-sessio-informativa-ladministracio-a-prop-teu.html
CLASS:PUBLIC
END:VEVENT
END:VCALENDAR
