BEGIN:VCALENDAR
VERSION:2.0
CALSCALE:GREGORIAN
PRODID:-//Diputació de Barcelona//DibaCMS//EN
BEGIN:VEVENT
UID:3580
DTSTAMP:20260423T040344
DTSTART:20221201T110000
DTEND:20481231T000000
SUMMARY:La Policia Local participa en una formació sobre violències sexuals
LOCATION:
METHOD:PUBLISH
X-WR-CALNAME:dosrius@dosrius.cat
X-WR-TIMEZONE:Europe/Madrid
DESCRIPTION:El taller s’emmarcava en el desplegament del Protocol local d’actuació davant les violències sexuals en espais públics i d’oci.

URI:https://www.dosrius.cat/actualitat/noticies/la-policia-local-participa-en-una-formacio-sobre-violencies-sexuals.html
CLASS:PUBLIC
END:VEVENT
END:VCALENDAR
