BEGIN:VCALENDAR
VERSION:2.0
CALSCALE:GREGORIAN
PRODID:-//Diputació de Barcelona//DibaCMS//EN
BEGIN:VEVENT
UID:3579
DTSTAMP:20260423T022716
DTSTART:20221201T080000
DTEND:20481120T230000
SUMMARY:Elena Julia Jordan obté un accèssit en la XXXIX Mostra Literària del Maresme 2022
LOCATION:
METHOD:PUBLISH
X-WR-CALNAME:dosrius@dosrius.cat
X-WR-TIMEZONE:Europe/Madrid
DESCRIPTION:L’Ajuntament felicita a aquesta dosriuenca pel reconeixement assolit i posa en valor el talent i l’originalitat de la seva obra.

URI:https://www.dosrius.cat/actualitat/noticies/elena-julia-jordan-obte-un-accessit-en-la-xxxix-mostra-literaria-del-maresme-2022.html
CLASS:PUBLIC
END:VEVENT
END:VCALENDAR
