BEGIN:VCALENDAR
VERSION:2.0
CALSCALE:GREGORIAN
PRODID:-//Diputació de Barcelona//DibaCMS//EN
BEGIN:VEVENT
UID:3576
DTSTAMP:20260423T020851
DTSTART:20230102T080000
DTEND:20481120T000000
SUMMARY:El 8 de febrer ens n’anem de calçotada amb Els Localets
LOCATION:
METHOD:PUBLISH
X-WR-CALNAME:dosrius@dosrius.cat
X-WR-TIMEZONE:Europe/Madrid
DESCRIPTION:L’activitat consistirà en un esmorzar, una calçotada i una visita al centre de Vilafranca del Penedès i a les caves Romagosa Torné amb degustació.

URI:https://www.dosrius.cat/actualitat/noticies/el-8-de-febrer-ens-nanem-de-calcotada-amb-els-localets.html
CLASS:PUBLIC
END:VEVENT
END:VCALENDAR
