BEGIN:VCALENDAR
VERSION:2.0
CALSCALE:GREGORIAN
PRODID:-//Diputació de Barcelona//DibaCMS//EN
BEGIN:VEVENT
UID:3574
DTSTAMP:20260422T234707
DTSTART:20221207T080000
DTEND:20481127T000000
SUMMARY:El dissabte 10 de desembre torna la Fira Municipal de Santa Llúcia
LOCATION:
METHOD:PUBLISH
X-WR-CALNAME:dosrius@dosrius.cat
X-WR-TIMEZONE:Europe/Madrid
DESCRIPTION:De 16 a 21 h els veïns i veïnes podran gaudir al carrer de l’1 d’Octubre de diferents propostes de caire lúdic i tradicional.

URI:https://www.dosrius.cat/actualitat/noticies/el-dissabte-10-de-desembre-torna-la-fira-municipal-de-santa-llucia.html
CLASS:PUBLIC
END:VEVENT
END:VCALENDAR
