BEGIN:VCALENDAR
VERSION:2.0
CALSCALE:GREGORIAN
PRODID:-//Diputació de Barcelona//DibaCMS//EN
BEGIN:VEVENT
UID:3573
DTSTAMP:20260423T010112
DTSTART:20221129T130000
DTEND:20480124T000000
SUMMARY:Actuacions de millora a la xarxa d’aigua potable a Dosrius
LOCATION:
METHOD:PUBLISH
X-WR-CALNAME:dosrius@dosrius.cat
X-WR-TIMEZONE:Europe/Madrid
DESCRIPTION:Els treballs comportaran dijous 1 de desembre una interrupció temporal en el subministrament d’aigua potable.

URI:https://www.dosrius.cat/actualitat/noticies/3573-actuacions-de-millora-a-la-xarxa-daigua-potable-a-dosrius.html
CLASS:PUBLIC
END:VEVENT
END:VCALENDAR
