BEGIN:VCALENDAR
VERSION:2.0
CALSCALE:GREGORIAN
PRODID:-//Diputació de Barcelona//DibaCMS//EN
BEGIN:VEVENT
UID:3565
DTSTAMP:20260423T002330
DTSTART:20221122T110000
DTEND:20481113T000000
SUMMARY:Coneix els guanyadors i guanyadores del Concurs Fotogràfic de Dosrius, Canyamars i Can Massuet del Far 2022 
LOCATION:
METHOD:PUBLISH
X-WR-CALNAME:dosrius@dosrius.cat
X-WR-TIMEZONE:Europe/Madrid
DESCRIPTION:El jurat ha guardonat a Joan Codinach amb el primer premi d’aquest certamen organitzat per l’Ajuntament. La imatge guanyadora, juntament amb les 12 fotografies premiades, formaran part del calendari de l’any 2023 que publicarà el consistori.

URI:https://www.dosrius.cat/actualitat/noticies/coneix-els-guanyadors-i-guanyadores-del-concurs-fotografic-de-dosrius-canyamars-i-can-massuet-del-far-2022-.html
CLASS:PUBLIC
END:VEVENT
END:VCALENDAR
