BEGIN:VCALENDAR
VERSION:2.0
CALSCALE:GREGORIAN
PRODID:-//Diputació de Barcelona//DibaCMS//EN
BEGIN:VEVENT
UID:3561
DTSTAMP:20260423T002553
DTSTART:20221117T190000
DTEND:20481120T000000
SUMMARY:Tot a punt per a l’inici de les obres de millora al consultori mèdic de Can Massuet del Far
LOCATION:
METHOD:PUBLISH
X-WR-CALNAME:dosrius@dosrius.cat
X-WR-TIMEZONE:Europe/Madrid
DESCRIPTION:Mentre durin els treballs els serveis i visites mèdiques s’oferiran al consultori mèdic de Dosrius. La farmaciola, en canvi, continuarà oberta fins a nou avís.

URI:https://www.dosrius.cat/actualitat/noticies/tot-a-punt-per-a-linici-de-les-obres-de-millora-al-consultori-medic-de-can-massuet-del-far.html
CLASS:PUBLIC
END:VEVENT
END:VCALENDAR
