BEGIN:VCALENDAR
VERSION:2.0
CALSCALE:GREGORIAN
PRODID:-//Diputació de Barcelona//DibaCMS//EN
BEGIN:VEVENT
UID:3555
DTSTAMP:20260423T002259
DTSTART:20221110T110000
DTEND:20481121T000000
SUMMARY:Reunió entre l’Ajuntament i la Subdirecció General de Mines i Protecció Radiològica sobre la pedrera del Rocà
LOCATION:
METHOD:PUBLISH
X-WR-CALNAME:dosrius@dosrius.cat
X-WR-TIMEZONE:Europe/Madrid
DESCRIPTION:La trobada estava convocada pel consistori amb l’objectiu de donar resposta a les queixes veïnals.

URI:https://www.dosrius.cat/actualitat/noticies/reunio-entre-lajuntament-i-la-subdireccio-general-de-mines-i-proteccio-radiologica-sobre-la-pedrera-del-roca.html
CLASS:PUBLIC
END:VEVENT
END:VCALENDAR
