BEGIN:VCALENDAR
VERSION:2.0
CALSCALE:GREGORIAN
PRODID:-//Diputació de Barcelona//DibaCMS//EN
BEGIN:VEVENT
UID:3551
DTSTAMP:20260423T013713
DTSTART:20221118T000000
DTEND:20481127T235500
SUMMARY:Ja és aquí la Festa Major d’Hivern! Vine a gaudir-ne el 19 i 20 de novembre
LOCATION:
METHOD:PUBLISH
X-WR-CALNAME:dosrius@dosrius.cat
X-WR-TIMEZONE:Europe/Madrid
DESCRIPTION:Durant el cap de setmana els veïns i veïnes podran gaudir de diferents propostes per a tots els públics en el marc de la Festa Major de Sant Iscle i Santa Victòria.

URI:https://www.dosrius.cat/actualitat/noticies/ja-es-aqui-la-festa-major-dhivern-vine-a-gaudir-ne-el-19-i-20-de-novembre.html
CLASS:PUBLIC
END:VEVENT
END:VCALENDAR
