BEGIN:VCALENDAR
VERSION:2.0
CALSCALE:GREGORIAN
PRODID:-//Diputació de Barcelona//DibaCMS//EN
BEGIN:VEVENT
UID:3506
DTSTAMP:20260423T005520
DTSTART:20221025T130000
DTEND:20481023T000000
SUMMARY:La Generalitat realitza mesures de les vibracions produïdes per la detonació de les càrregues de la pedrera d’El Rocà
LOCATION:
METHOD:PUBLISH
X-WR-CALNAME:dosrius@dosrius.cat
X-WR-TIMEZONE:Europe/Madrid
DESCRIPTION:Pròximament s’enviarà un informe a l’Ajuntament de Dosrius amb el resultat de les mesures.

URI:https://www.dosrius.cat/actualitat/noticies/la-generalitat-realitza-mesures-de-les-vibracions-produides-per-la-detonacio-de-les-carregues-de-la-pedrera-del-roca.html
CLASS:PUBLIC
END:VEVENT
END:VCALENDAR
