BEGIN:VCALENDAR
VERSION:2.0
CALSCALE:GREGORIAN
PRODID:-//Diputació de Barcelona//DibaCMS//EN
BEGIN:VEVENT
UID:3504
DTSTAMP:20260423T005129
DTSTART:20221024T160000
DTEND:20481029T000000
SUMMARY:Convocatòria de delegats per a l’Assemblea General del Consell Consultiu de la Gent Gran del Consell Comarcal del Maresme
LOCATION:
METHOD:PUBLISH
X-WR-CALNAME:dosrius@dosrius.cat
X-WR-TIMEZONE:Europe/Madrid
DESCRIPTION:Les sol·licituds es poden presentar fins el 28 d’octubre al Registre General de l’Ajuntament.

URI:https://www.dosrius.cat/actualitat/noticies/convocatoria-de-delegats-per-a-lassemblea-general-del-consell-consultiu-de-la-gent-gran-del-consell-comarcal-del-maresme.html
CLASS:PUBLIC
END:VEVENT
END:VCALENDAR
