BEGIN:VCALENDAR
VERSION:2.0
CALSCALE:GREGORIAN
PRODID:-//Diputació de Barcelona//DibaCMS//EN
BEGIN:VEVENT
UID:3501
DTSTAMP:20260423T111129
DTSTART:20221020T000000
DTEND:20481030T000000
SUMMARY:Halloween: una experiència terrorífica en realitat virtual
LOCATION:
METHOD:PUBLISH
X-WR-CALNAME:dosrius@dosrius.cat
X-WR-TIMEZONE:Europe/Madrid
DESCRIPTION:Dilluns 31 d'octubre el Poliesportiu de Dosrius acollirà una activitat de realitat virtual.

URI:https://www.dosrius.cat/actualitat/noticies/3501-halloween-una-experiencia-terrorifica-en-realitat-virtual.html
CLASS:PUBLIC
END:VEVENT
END:VCALENDAR
