BEGIN:VCALENDAR
VERSION:2.0
CALSCALE:GREGORIAN
PRODID:-//Diputació de Barcelona//DibaCMS//EN
BEGIN:VEVENT
UID:3498
DTSTAMP:20260423T022242
DTSTART:20221019T110000
DTEND:20481016T000000
SUMMARY:Inauguració de les zones joves de cal·listènia: nou horari!
LOCATION:
METHOD:PUBLISH
X-WR-CALNAME:dosrius@dosrius.cat
X-WR-TIMEZONE:Europe/Madrid
DESCRIPTION:S’inauguraran a Can Massuet del Far el 22 d’octubre i a Canyamars el 5 de novembre, a les 16.30 h.

URI:https://www.dosrius.cat/actualitat/noticies/inauguracio-de-les-zones-joves-de-callistenia-nou-horari.html
CLASS:PUBLIC
END:VEVENT
END:VCALENDAR
