BEGIN:VCALENDAR
VERSION:2.0
CALSCALE:GREGORIAN
PRODID:-//Diputació de Barcelona//DibaCMS//EN
BEGIN:VEVENT
UID:3496
DTSTAMP:20260423T051210
DTSTART:20221018T110000
DTEND:20481030T000000
SUMMARY:Apunta’t a les noves xerrades sobre salut
LOCATION:
METHOD:PUBLISH
X-WR-CALNAME:dosrius@dosrius.cat
X-WR-TIMEZONE:Europe/Madrid
DESCRIPTION:Les sessions es duran a terme el 20 d'octubre i el 24 de novembre a la Sala de Plens de l’Ajuntament. 

URI:https://www.dosrius.cat/actualitat/noticies/apuntat-a-les-noves-xerrades-sobre-salut.html
CLASS:PUBLIC
END:VEVENT
END:VCALENDAR
