BEGIN:VCALENDAR
VERSION:2.0
CALSCALE:GREGORIAN
PRODID:-//Diputació de Barcelona//DibaCMS//EN
BEGIN:VEVENT
UID:3495
DTSTAMP:20260423T021012
DTSTART:20221018T080000
DTEND:20481030T000000
SUMMARY:Prepara la decoració nadalenca d’enguany al taller de manualitats de Nadal
LOCATION:
METHOD:PUBLISH
X-WR-CALNAME:dosrius@dosrius.cat
X-WR-TIMEZONE:Europe/Madrid
DESCRIPTION:Les places són limitades i per a participar-hi cal inscriure’s abans del 28 d’octubre al telèfon 673 002 613.

URI:https://www.dosrius.cat/actualitat/noticies/prepara-la-decoracio-nadalenca-denguany-al-taller-de-manualitats-de-nadal.html
CLASS:PUBLIC
END:VEVENT
END:VCALENDAR
