BEGIN:VCALENDAR
VERSION:2.0
CALSCALE:GREGORIAN
PRODID:-//Diputació de Barcelona//DibaCMS//EN
BEGIN:VEVENT
UID:3486
DTSTAMP:20260423T024320
DTSTART:20221011T000000
DTEND:20481016T000000
SUMMARY:19 d'octubre, Dia Mundial contra el Càncer de Mama
LOCATION:
METHOD:PUBLISH
X-WR-CALNAME:dosrius@dosrius.cat
X-WR-TIMEZONE:Europe/Madrid
DESCRIPTION:L’Ajuntament de Dosrius convida a tots els veïns i veïnes a compartir el llaç rosa durant tot el mes d’octubre i a participar el dia 17 en la jornada “El rosa és més que un color” organitzada per l’Associació Contra el Càncer.

URI:https://www.dosrius.cat/actualitat/noticies/19-doctubre-dia-mundial-contra-el-cancer-de-mama.html
CLASS:PUBLIC
END:VEVENT
END:VCALENDAR
