BEGIN:VCALENDAR
VERSION:2.0
CALSCALE:GREGORIAN
PRODID:-//Diputació de Barcelona//DibaCMS//EN
BEGIN:VEVENT
UID:3485
DTSTAMP:20260423T022312
DTSTART:20221025T080000
DTEND:20481023T000000
SUMMARY:Xerrada de primers auxilis per a famílies amb infants de 0 a 3 anys
LOCATION:
METHOD:PUBLISH
X-WR-CALNAME:dosrius@dosrius.cat
X-WR-TIMEZONE:Europe/Madrid
DESCRIPTION:El taller tindrà lloc el dijous 1 de desembre, a les 17 h, a l’EBM La Caseta del Bosc de Can Martorell.

URI:https://www.dosrius.cat/actualitat/noticies/3485-xerrada-de-primers-auxilis-per-a-families-amb-infants-de-0-a-3-anys.html
CLASS:PUBLIC
END:VEVENT
END:VCALENDAR
