BEGIN:VCALENDAR
VERSION:2.0
CALSCALE:GREGORIAN
PRODID:-//Diputació de Barcelona//DibaCMS//EN
BEGIN:VEVENT
UID:3483
DTSTAMP:20260423T020754
DTSTART:20221013T080000
DTEND:20481023T000000
SUMMARY:El 15 i 16 d’octubre, Fira del Bosc-Canyamars Medieval
LOCATION:
METHOD:PUBLISH
X-WR-CALNAME:dosrius@dosrius.cat
X-WR-TIMEZONE:Europe/Madrid
DESCRIPTION:Durant tot el cap de setmana se celebraran més d’una trentena de propostes; entre elles, accions teatralitzades, recreacions històriques, música i dansa, parades d’artesania i gastronomia, demostracions d’oficis i jocs.

URI:https://www.dosrius.cat/actualitat/noticies/el-15-i-16-doctubre-fira-del-bosc-canyamars-medieval.html
CLASS:PUBLIC
END:VEVENT
END:VCALENDAR
