BEGIN:VCALENDAR
VERSION:2.0
CALSCALE:GREGORIAN
PRODID:-//Diputació de Barcelona//DibaCMS//EN
BEGIN:VEVENT
UID:3481
DTSTAMP:20260423T040818
DTSTART:20221005T070000
DTEND:20480612T000000
SUMMARY:L’Oficina Mòbil d’Informació al Consumidor atendrà avui dimecres les consultes veïnals
LOCATION:
METHOD:PUBLISH
X-WR-CALNAME:dosrius@dosrius.cat
X-WR-TIMEZONE:Europe/Madrid
DESCRIPTION:El servei es prestarà aquest dimecres 5 d'octubre, de 10.30 h a 11.30 h, a l’aparcament ubicat davant de l’Ajuntament. 

URI:https://www.dosrius.cat/actualitat/noticies/loficina-mobil-dinformacio-al-consumidor-atendra-avui-dimecres-les-consultes-veinals.html
CLASS:PUBLIC
END:VEVENT
END:VCALENDAR
