BEGIN:VCALENDAR
VERSION:2.0
CALSCALE:GREGORIAN
PRODID:-//Diputació de Barcelona//DibaCMS//EN
BEGIN:VEVENT
UID:3480
DTSTAMP:20260423T010828
DTSTART:20221004T000000
DTEND:20481016T000000
SUMMARY: Dosrius diu prou a l'incivisme i al vandalisme
LOCATION:
METHOD:PUBLISH
X-WR-CALNAME:dosrius@dosrius.cat
X-WR-TIMEZONE:Europe/Madrid
DESCRIPTION:
URI:https://www.dosrius.cat/actualitat/noticies/-dosrius-diu-prou-a-lincivisme-i-al-vandalisme.html
CLASS:PUBLIC
END:VEVENT
END:VCALENDAR
