BEGIN:VCALENDAR
VERSION:2.0
CALSCALE:GREGORIAN
PRODID:-//Diputació de Barcelona//DibaCMS//EN
BEGIN:VEVENT
UID:3479
DTSTAMP:20260423T033806
DTSTART:20221003T160000
DTEND:20480124T000000
SUMMARY:Actuacions de millora a la xarxa d’aigua potable a Dosrius
LOCATION:
METHOD:PUBLISH
X-WR-CALNAME:dosrius@dosrius.cat
X-WR-TIMEZONE:Europe/Madrid
DESCRIPTION:Els treballs comportaran dimarts 4 d'octubre una interrupció temporal en el subministrament d’aigua potable.

URI:https://www.dosrius.cat/actualitat/noticies/3479-actuacions-de-millora-a-la-xarxa-daigua-potable-a-dosrius.html
CLASS:PUBLIC
END:VEVENT
END:VCALENDAR
