BEGIN:VCALENDAR
VERSION:2.0
CALSCALE:GREGORIAN
PRODID:-//Diputació de Barcelona//DibaCMS//EN
BEGIN:VEVENT
UID:3477
DTSTAMP:20260423T012147
DTSTART:20220928T120000
DTEND:20230922T000000
SUMMARY:S’obre la convocatòria per a la concessió de les subvencions per al pagament del lloguer a persones joves fins a 36 anys
LOCATION:
METHOD:PUBLISH
X-WR-CALNAME:dosrius@dosrius.cat
X-WR-TIMEZONE:Europe/Madrid
DESCRIPTION:El termini per demanar ajuts per al pagament del lloguer a joves fins a 36 anys s’inicia el 28 de setembre a les 09 h i acaba el 7 d’octubre a les 15 h. El tràmit es pot formalitzar telemàticament aquí.

URI:https://www.dosrius.cat/actualitat/noticies/sobre-la-convocatoria-per-a-la-concessio-de-les-subvencions-per-al-pagament-del-lloguer-a-persones-joves-fins-a-36-anys.html
CLASS:PUBLIC
END:VEVENT
END:VCALENDAR
